BEGIN:VCALENDAR
VERSION:2.0
PRODID:-//Pro Loco di Sonico (BS) - ECPv6.15.20//NONSGML v1.0//EN
CALSCALE:GREGORIAN
METHOD:PUBLISH
X-WR-CALNAME:Pro Loco di Sonico (BS)
X-ORIGINAL-URL:https://www.proloco.sonico.bs.it
X-WR-CALDESC:Eventi per Pro Loco di Sonico (BS)
REFRESH-INTERVAL;VALUE=DURATION:PT1H
X-Robots-Tag:noindex
X-PUBLISHED-TTL:PT1H
BEGIN:VTIMEZONE
TZID:Europe/Rome
BEGIN:DAYLIGHT
TZOFFSETFROM:+0100
TZOFFSETTO:+0200
TZNAME:CEST
DTSTART:20110327T010000
END:DAYLIGHT
BEGIN:STANDARD
TZOFFSETFROM:+0200
TZOFFSETTO:+0100
TZNAME:CET
DTSTART:20111030T010000
END:STANDARD
BEGIN:DAYLIGHT
TZOFFSETFROM:+0100
TZOFFSETTO:+0200
TZNAME:CEST
DTSTART:20120325T010000
END:DAYLIGHT
BEGIN:STANDARD
TZOFFSETFROM:+0200
TZOFFSETTO:+0100
TZNAME:CET
DTSTART:20121028T010000
END:STANDARD
BEGIN:DAYLIGHT
TZOFFSETFROM:+0100
TZOFFSETTO:+0200
TZNAME:CEST
DTSTART:20130331T010000
END:DAYLIGHT
BEGIN:STANDARD
TZOFFSETFROM:+0200
TZOFFSETTO:+0100
TZNAME:CET
DTSTART:20131027T010000
END:STANDARD
BEGIN:DAYLIGHT
TZOFFSETFROM:+0100
TZOFFSETTO:+0200
TZNAME:CEST
DTSTART:20140330T010000
END:DAYLIGHT
BEGIN:STANDARD
TZOFFSETFROM:+0200
TZOFFSETTO:+0100
TZNAME:CET
DTSTART:20141026T010000
END:STANDARD
BEGIN:DAYLIGHT
TZOFFSETFROM:+0100
TZOFFSETTO:+0200
TZNAME:CEST
DTSTART:20150329T010000
END:DAYLIGHT
BEGIN:STANDARD
TZOFFSETFROM:+0200
TZOFFSETTO:+0100
TZNAME:CET
DTSTART:20151025T010000
END:STANDARD
BEGIN:DAYLIGHT
TZOFFSETFROM:+0100
TZOFFSETTO:+0200
TZNAME:CEST
DTSTART:20160327T010000
END:DAYLIGHT
BEGIN:STANDARD
TZOFFSETFROM:+0200
TZOFFSETTO:+0100
TZNAME:CET
DTSTART:20161030T010000
END:STANDARD
BEGIN:DAYLIGHT
TZOFFSETFROM:+0100
TZOFFSETTO:+0200
TZNAME:CEST
DTSTART:20170326T010000
END:DAYLIGHT
BEGIN:STANDARD
TZOFFSETFROM:+0200
TZOFFSETTO:+0100
TZNAME:CET
DTSTART:20171029T010000
END:STANDARD
BEGIN:DAYLIGHT
TZOFFSETFROM:+0100
TZOFFSETTO:+0200
TZNAME:CEST
DTSTART:20180325T010000
END:DAYLIGHT
BEGIN:STANDARD
TZOFFSETFROM:+0200
TZOFFSETTO:+0100
TZNAME:CET
DTSTART:20181028T010000
END:STANDARD
BEGIN:DAYLIGHT
TZOFFSETFROM:+0100
TZOFFSETTO:+0200
TZNAME:CEST
DTSTART:20190331T010000
END:DAYLIGHT
BEGIN:STANDARD
TZOFFSETFROM:+0200
TZOFFSETTO:+0100
TZNAME:CET
DTSTART:20191027T010000
END:STANDARD
BEGIN:DAYLIGHT
TZOFFSETFROM:+0100
TZOFFSETTO:+0200
TZNAME:CEST
DTSTART:20200329T010000
END:DAYLIGHT
BEGIN:STANDARD
TZOFFSETFROM:+0200
TZOFFSETTO:+0100
TZNAME:CET
DTSTART:20201025T010000
END:STANDARD
BEGIN:DAYLIGHT
TZOFFSETFROM:+0100
TZOFFSETTO:+0200
TZNAME:CEST
DTSTART:20210328T010000
END:DAYLIGHT
BEGIN:STANDARD
TZOFFSETFROM:+0200
TZOFFSETTO:+0100
TZNAME:CET
DTSTART:20211031T010000
END:STANDARD
BEGIN:DAYLIGHT
TZOFFSETFROM:+0100
TZOFFSETTO:+0200
TZNAME:CEST
DTSTART:20220327T010000
END:DAYLIGHT
BEGIN:STANDARD
TZOFFSETFROM:+0200
TZOFFSETTO:+0100
TZNAME:CET
DTSTART:20221030T010000
END:STANDARD
BEGIN:DAYLIGHT
TZOFFSETFROM:+0100
TZOFFSETTO:+0200
TZNAME:CEST
DTSTART:20230326T010000
END:DAYLIGHT
BEGIN:STANDARD
TZOFFSETFROM:+0200
TZOFFSETTO:+0100
TZNAME:CET
DTSTART:20231029T010000
END:STANDARD
BEGIN:DAYLIGHT
TZOFFSETFROM:+0100
TZOFFSETTO:+0200
TZNAME:CEST
DTSTART:20240331T010000
END:DAYLIGHT
BEGIN:STANDARD
TZOFFSETFROM:+0200
TZOFFSETTO:+0100
TZNAME:CET
DTSTART:20241027T010000
END:STANDARD
END:VTIMEZONE
BEGIN:VEVENT
DTSTART;TZID=Europe/Rome:20230806T210000
DTEND;TZID=Europe/Rome:20230806T210000
DTSTAMP:20260426T001551
CREATED:20230806T100134Z
LAST-MODIFIED:20231228T190001Z
UID:4435-1691355600-1691355600@www.proloco.sonico.bs.it
SUMMARY:Coren by Night
DESCRIPTION:
URL:https://www.proloco.sonico.bs.it/evento/coren-by-night
LOCATION:Coren de le Fate\, Via della Monega\, Sonico\, BS\, 25048\, Italia
CATEGORIES:Manifestazioni
ATTACH;FMTTYPE=image/jpeg:https://www.proloco.sonico.bs.it/wp-content/uploads/2023/07/Locandina-Coren-by-night.jpg
ORGANIZER;CN="Pro Loco Sonico":MAILTO:info@proloco.sonico.bs.it
END:VEVENT
BEGIN:VEVENT
DTSTART;TZID=Europe/Rome:20230729T210000
DTEND;TZID=Europe/Rome:20230729T210000
DTSTAMP:20260426T001551
CREATED:20230729T100136Z
LAST-MODIFIED:20231228T190026Z
UID:4437-1690664400-1690664400@www.proloco.sonico.bs.it
SUMMARY:Coren by Night
DESCRIPTION:
URL:https://www.proloco.sonico.bs.it/evento/coren-by-night-2
LOCATION:Coren de le Fate\, Via della Monega\, Sonico\, BS\, 25048\, Italia
CATEGORIES:Manifestazioni
ATTACH;FMTTYPE=image/jpeg:https://www.proloco.sonico.bs.it/wp-content/uploads/2023/07/Locandina-Coren-by-night.jpg
ORGANIZER;CN="Pro Loco Sonico":MAILTO:info@proloco.sonico.bs.it
END:VEVENT
BEGIN:VEVENT
DTSTART;TZID=Europe/Rome:20230716T133000
DTEND;TZID=Europe/Rome:20230716T133000
DTSTAMP:20260426T001551
CREATED:20230716T100142Z
LAST-MODIFIED:20231228T191531Z
UID:4440-1689514200-1689514200@www.proloco.sonico.bs.it
SUMMARY:Tour Bike
DESCRIPTION:Info: 331.8234055 (Mirko Calufetti)
URL:https://www.proloco.sonico.bs.it/evento/tour-bike
LOCATION:Sonico\, Sonico\, BS\, 25048\, Italia
CATEGORIES:Manifestazioni
ATTACH;FMTTYPE=image/jpeg:https://www.proloco.sonico.bs.it/wp-content/uploads/2023/06/IMG-20230625-WA0001.jpg
ORGANIZER;CN="Pro Loco Sonico":MAILTO:info@proloco.sonico.bs.it
END:VEVENT
BEGIN:VEVENT
DTSTART;TZID=Europe/Rome:20220903T083000
DTEND;TZID=Europe/Rome:20220904T000000
DTSTAMP:20260426T001551
CREATED:20220903T100210Z
LAST-MODIFIED:20231228T191655Z
UID:4448-1662193800-1662249600@www.proloco.sonico.bs.it
SUMMARY:Gita al Baitone
DESCRIPTION:
URL:https://www.proloco.sonico.bs.it/evento/gita-al-baitone
LOCATION:Rifugio Baitone\, Sonico (loc. Baitone)\, BS\, 25048\, Italia
CATEGORIES:Manifestazioni
ATTACH;FMTTYPE=image/jpeg:https://www.proloco.sonico.bs.it/wp-content/uploads/2022/08/Gita-Baitone.jpg
ORGANIZER;CN="Pro Loco Sonico":MAILTO:info@proloco.sonico.bs.it
END:VEVENT
BEGIN:VEVENT
DTSTART;TZID=Europe/Rome:20211016T143000
DTEND;TZID=Europe/Rome:20211017T000000
DTSTAMP:20260426T001551
CREATED:20211016T100316Z
LAST-MODIFIED:20231228T192010Z
UID:4461-1634394600-1634428800@www.proloco.sonico.bs.it
SUMMARY:Giornate FAI d'autunno
DESCRIPTION:https://fondoambiente.it/il-fai/grandi-campagne/giornate-fai-autunno/i-luoghi-aperti/?search=Sonico
URL:https://www.proloco.sonico.bs.it/evento/giornate-fai-dautunno
LOCATION:Sonico\, Sonico\, BS\, 25048\, Italia
CATEGORIES:Manifestazioni
ATTACH;FMTTYPE=image/jpeg:https://www.proloco.sonico.bs.it/wp-content/uploads/2021/10/Proloco-Sonico-A3-Giornate-FAI-Autunno-2021.jpg
ORGANIZER;CN="Pro Loco Sonico":MAILTO:info@proloco.sonico.bs.it
END:VEVENT
BEGIN:VEVENT
DTSTART;TZID=Europe/Rome:20210904T103000
DTEND;TZID=Europe/Rome:20210904T103000
DTSTAMP:20260426T001551
CREATED:20210904T100317Z
LAST-MODIFIED:20231228T192023Z
UID:4462-1630751400-1630751400@www.proloco.sonico.bs.it
SUMMARY:Erbe selvatiche commestibili dalla conoscenza alla tavola
DESCRIPTION:Info: 3493653942
URL:https://www.proloco.sonico.bs.it/evento/erbe-selvatiche-commestibili-dalla-conoscenza-alla-tavola
LOCATION:Rino\, Rino di Sonico\, BS\, 25048\, Italia
CATEGORIES:Manifestazioni
ATTACH;FMTTYPE=image/jpeg:https://www.proloco.sonico.bs.it/wp-content/uploads/2021/08/IMG-20210826-WA0002.jpg
ORGANIZER;CN="Pro Loco Sonico":MAILTO:info@proloco.sonico.bs.it
END:VEVENT
BEGIN:VEVENT
DTSTART;TZID=Europe/Rome:20200627T140000
DTEND;TZID=Europe/Rome:20200628T000000
DTSTAMP:20260426T001551
CREATED:20200627T100355Z
LAST-MODIFIED:20231228T192232Z
UID:4476-1593266400-1593302400@www.proloco.sonico.bs.it
SUMMARY:Giornate FAI all'aperto 27-28 giugno
DESCRIPTION:Per visitare il luogo è obbligatoria la prenotazione. Durante la visita sarà necessario rispettare le misure di sicurezza prestabilite.
URL:https://www.proloco.sonico.bs.it/evento/giornate-fai-allaperto-27-28-giugno
LOCATION:BS
CATEGORIES:Manifestazioni
ATTACH;FMTTYPE=image/jpeg:https://www.proloco.sonico.bs.it/wp-content/uploads/2020/06/la-terza-linea-della-prima-guerra-mondiale-sonicobrescia_90165.jpg
ORGANIZER;CN="Pro Loco Sonico":MAILTO:info@proloco.sonico.bs.it
END:VEVENT
BEGIN:VEVENT
DTSTART;TZID=Europe/Rome:20191012T203000
DTEND;TZID=Europe/Rome:20191012T203000
DTSTAMP:20260426T001551
CREATED:20191012T100411Z
LAST-MODIFIED:20231228T192340Z
UID:4482-1570912200-1570912200@www.proloco.sonico.bs.it
SUMMARY:Del bene e del bello 2019
DESCRIPTION:
URL:https://www.proloco.sonico.bs.it/evento/del-bene-e-del-bello-2019
LOCATION:Piazza della Torre\, Piazza della Torre\, Sonico\, BS\, 25048\, Italia
CATEGORIES:Manifestazioni
ATTACH;FMTTYPE=image/jpeg:https://www.proloco.sonico.bs.it/wp-content/uploads/2019/10/Del-Bene-e-del-Bello.jpg
ORGANIZER;CN="Pro Loco Sonico":MAILTO:info@proloco.sonico.bs.it
END:VEVENT
BEGIN:VEVENT
DTSTART;TZID=Europe/Rome:20190726T000000
DTEND;TZID=Europe/Rome:20190728T000000
DTSTAMP:20260426T001551
CREATED:20190726T100426Z
LAST-MODIFIED:20231228T192518Z
UID:4487-1564099200-1564272000@www.proloco.sonico.bs.it
SUMMARY:56° pellegrinaggio in Adamello 2019
DESCRIPTION:
URL:https://www.proloco.sonico.bs.it/evento/56-pellegrinaggio-in-adamello-2019
LOCATION:Sonico\, Sonico\, BS\, 25048\, Italia
CATEGORIES:Manifestazioni
ATTACH;FMTTYPE=image/jpeg:https://www.proloco.sonico.bs.it/wp-content/uploads/2019/07/Pellegrinaggio.jpg
ORGANIZER;CN="Pro Loco Sonico":MAILTO:info@proloco.sonico.bs.it
END:VEVENT
BEGIN:VEVENT
DTSTART;TZID=Europe/Rome:20181013T203000
DTEND;TZID=Europe/Rome:20181013T203000
DTSTAMP:20260426T001551
CREATED:20181013T100452Z
LAST-MODIFIED:20231228T192631Z
UID:4494-1539462600-1539462600@www.proloco.sonico.bs.it
SUMMARY:Del bene e del bello 2018
DESCRIPTION:
URL:https://www.proloco.sonico.bs.it/evento/del-bene-e-del-bello-2018
LOCATION:Sala Polifunzionale “Ida Mottinelli”\, Sonico\, BS\, 25048\, Italia
CATEGORIES:Manifestazioni
ATTACH;FMTTYPE=image/jpeg:https://www.proloco.sonico.bs.it/wp-content/uploads/2018/09/Del-bene-e-del-bello.jpg
ORGANIZER;CN="Pro Loco Sonico":MAILTO:info@proloco.sonico.bs.it
END:VEVENT
BEGIN:VEVENT
DTSTART;TZID=Europe/Rome:20180812T093000
DTEND;TZID=Europe/Rome:20180812T093000
DTSTAMP:20260426T001551
CREATED:20180812T100455Z
LAST-MODIFIED:20231228T192652Z
UID:4496-1534066200-1534066200@www.proloco.sonico.bs.it
SUMMARY:Escurzione con E-Bike
DESCRIPTION:www.eventi.ebikestorebrescia.it
URL:https://www.proloco.sonico.bs.it/evento/escurzione-con-e-bike
LOCATION:Nei boschi da Garda-Val Malga-Rino-Sonico\, Sonico\, BS\, 25048\, Italia
CATEGORIES:Manifestazioni
ATTACH;FMTTYPE=image/jpeg:https://www.proloco.sonico.bs.it/wp-content/uploads/2018/07/E-Bike.jpg
ORGANIZER;CN="Pro Loco Sonico":MAILTO:info@proloco.sonico.bs.it
END:VEVENT
BEGIN:VEVENT
DTSTART;TZID=Europe/Rome:20171230T133000
DTEND;TZID=Europe/Rome:20171230T133000
DTSTAMP:20260426T001551
CREATED:20171230T110525Z
LAST-MODIFIED:20231228T192841Z
UID:4506-1514640600-1514640600@www.proloco.sonico.bs.it
SUMMARY:Caminada de 'm bot 2017
DESCRIPTION:
URL:https://www.proloco.sonico.bs.it/evento/caminada-de-m-bot-2017
LOCATION:Nei boschi da Garda-Val Malga-Rino-Sonico\, Sonico\, BS\, 25048\, Italia
CATEGORIES:Manifestazioni
ATTACH;FMTTYPE=image/jpeg:https://www.proloco.sonico.bs.it/wp-content/uploads/2017/12/Locandina-A3-Caminada-de-m-bot-20171.jpg
ORGANIZER;CN="Pro Loco Sonico":MAILTO:info@proloco.sonico.bs.it
END:VEVENT
BEGIN:VEVENT
DTSTART;TZID=Europe/Rome:20171007T203000
DTEND;TZID=Europe/Rome:20171007T203000
DTSTAMP:20260426T001551
CREATED:20171007T100537Z
LAST-MODIFIED:20231228T192910Z
UID:4509-1507408200-1507408200@www.proloco.sonico.bs.it
SUMMARY:Del bene e del bello 2017
DESCRIPTION:
URL:https://www.proloco.sonico.bs.it/evento/del-bene-e-del-bello-2017
LOCATION:Chiesa S. Antonio Rino\, Piazza don Antonio Cauzzi 9\, Rino di Sonico\, BS\, 25048
CATEGORIES:Manifestazioni
ATTACH;FMTTYPE=image/jpeg:https://www.proloco.sonico.bs.it/wp-content/uploads/2017/09/Locandina-completa.jpg
ORGANIZER;CN="Pro Loco Sonico":MAILTO:info@proloco.sonico.bs.it
END:VEVENT
BEGIN:VEVENT
DTSTART;TZID=Europe/Rome:20170715T204500
DTEND;TZID=Europe/Rome:20170715T204500
DTSTAMP:20260426T001551
CREATED:20170715T100554Z
LAST-MODIFIED:20231228T194539Z
UID:4519-1500151500-1500151500@www.proloco.sonico.bs.it
SUMMARY:Coren by Night
DESCRIPTION:
URL:https://www.proloco.sonico.bs.it/evento/coren-by-night-3
LOCATION:Coren de le Fate\, Via della Monega\, Sonico\, BS\, 25048\, Italia
CATEGORIES:Manifestazioni
ORGANIZER;CN="Pro Loco Sonico":MAILTO:info@proloco.sonico.bs.it
END:VEVENT
BEGIN:VEVENT
DTSTART;TZID=Europe/Rome:20170326T100000
DTEND;TZID=Europe/Rome:20170326T100000
DTSTAMP:20260426T001551
CREATED:20170326T100555Z
LAST-MODIFIED:20231228T194526Z
UID:4521-1490522400-1490522400@www.proloco.sonico.bs.it
SUMMARY:Segni di primavera
DESCRIPTION:
URL:https://www.proloco.sonico.bs.it/evento/segni-di-primavera
LOCATION:Coren de le Fate\, Via della Monega\, Sonico\, BS\, 25048\, Italia
CATEGORIES:Manifestazioni
ORGANIZER;CN="Pro Loco Sonico":MAILTO:info@proloco.sonico.bs.it
END:VEVENT
BEGIN:VEVENT
DTSTART;TZID=Europe/Rome:20161030T143000
DTEND;TZID=Europe/Rome:20161030T143000
DTSTAMP:20260426T001551
CREATED:20161030T110612Z
LAST-MODIFIED:20231228T194426Z
UID:4534-1477837800-1477837800@www.proloco.sonico.bs.it
SUMMARY:Del bene e del bello 2016
DESCRIPTION:
URL:https://www.proloco.sonico.bs.it/evento/del-bene-e-del-bello-2016
LOCATION:Lungo strada Val Malga\, Sonico\, BS\, 25048\, Italia
CATEGORIES:Manifestazioni
ORGANIZER;CN="Pro Loco Sonico":MAILTO:info@proloco.sonico.bs.it
END:VEVENT
BEGIN:VEVENT
DTSTART;TZID=Europe/Rome:20161029T203000
DTEND;TZID=Europe/Rome:20161029T203000
DTSTAMP:20260426T001551
CREATED:20161029T100622Z
LAST-MODIFIED:20231228T194410Z
UID:4537-1477773000-1477773000@www.proloco.sonico.bs.it
SUMMARY:Del bene e del bello 2016
DESCRIPTION:
URL:https://www.proloco.sonico.bs.it/evento/del-bene-e-del-bello-2016-2
LOCATION:Sala Polifunzionale “Ida Mottinelli”\, Sonico\, BS\, 25048\, Italia
CATEGORIES:Manifestazioni
ORGANIZER;CN="Pro Loco Sonico":MAILTO:info@proloco.sonico.bs.it
END:VEVENT
BEGIN:VEVENT
DTSTART;TZID=Europe/Rome:20160925T080000
DTEND;TZID=Europe/Rome:20160925T080000
DTSTAMP:20260426T001551
CREATED:20160925T100625Z
LAST-MODIFIED:20231228T194354Z
UID:4539-1474790400-1474790400@www.proloco.sonico.bs.it
SUMMARY:Giornata micologica
DESCRIPTION:
URL:https://www.proloco.sonico.bs.it/evento/giornata-micologica
LOCATION:BS
CATEGORIES:Manifestazioni
ORGANIZER;CN="Pro Loco Sonico":MAILTO:info@proloco.sonico.bs.it
END:VEVENT
BEGIN:VEVENT
DTSTART;TZID=Europe/Rome:20160717T143000
DTEND;TZID=Europe/Rome:20160717T143000
DTSTAMP:20260426T001551
CREATED:20160717T100641Z
LAST-MODIFIED:20231228T194300Z
UID:4551-1468765800-1468765800@www.proloco.sonico.bs.it
SUMMARY:Appestati
DESCRIPTION:
URL:https://www.proloco.sonico.bs.it/evento/appestati
LOCATION:Sonico\, Sonico\, BS\, 25048\, Italia
CATEGORIES:Manifestazioni
ORGANIZER;CN="Pro Loco Sonico":MAILTO:info@proloco.sonico.bs.it
END:VEVENT
BEGIN:VEVENT
DTSTART;TZID=Europe/Rome:20140727T090000
DTEND;TZID=Europe/Rome:20140727T090000
DTSTAMP:20260426T001551
CREATED:20140727T100657Z
LAST-MODIFIED:20231228T194201Z
UID:4561-1406451600-1406451600@www.proloco.sonico.bs.it
SUMMARY:Vajont orazione civile
DESCRIPTION:Narrazione di Omar Rottoli\, testo di Marco Paolini e Gabriele Vacis
URL:https://www.proloco.sonico.bs.it/evento/vajont-orazione-civile
LOCATION:Rifugio Tonolini\, Sonico (loc. Baitone)\, BS\, 25048\, Italia
CATEGORIES:Manifestazioni
ATTACH;FMTTYPE=image/jpeg:https://www.proloco.sonico.bs.it/wp-content/uploads/2014/05/vajont.jpg
ORGANIZER;CN="Pro Loco Sonico":MAILTO:info@proloco.sonico.bs.it
END:VEVENT
BEGIN:VEVENT
DTSTART;TZID=Europe/Rome:20140622T134500
DTEND;TZID=Europe/Rome:20140622T134500
DTSTAMP:20260426T001551
CREATED:20140622T100709Z
LAST-MODIFIED:20231228T194139Z
UID:4566-1403444700-1403444700@www.proloco.sonico.bs.it
SUMMARY:Sonico e la sua storia mineraria
DESCRIPTION:
URL:https://www.proloco.sonico.bs.it/evento/sonico-e-la-sua-storia-mineraria
LOCATION:Albarina\, Sonico\, BS\, 25048\, Italia
CATEGORIES:Manifestazioni
ORGANIZER;CN="Pro Loco Sonico":MAILTO:info@proloco.sonico.bs.it
END:VEVENT
BEGIN:VEVENT
DTSTART;TZID=Europe/Rome:20131228T200000
DTEND;TZID=Europe/Rome:20131228T200000
DTSTAMP:20260426T001551
CREATED:20131228T110710Z
LAST-MODIFIED:20231228T194128Z
UID:4567-1388260800-1388260800@www.proloco.sonico.bs.it
SUMMARY:Caminada de not 2013
DESCRIPTION:Iscrizioni aperte fino al giorno della manifestazione.Servizio bus navetta da Sonico e Garda.\nInfo: 3396326299
URL:https://www.proloco.sonico.bs.it/evento/caminada-de-not-2013
LOCATION:Piazza a Rino\, Piazza don Antonio Cauzzi\, Rino di Sonico\, BS\, 25048\, Italia
CATEGORIES:Manifestazioni
ORGANIZER;CN="Pro Loco Sonico":MAILTO:info@proloco.sonico.bs.it
END:VEVENT
BEGIN:VEVENT
DTSTART;TZID=Europe/Rome:20130929T093000
DTEND;TZID=Europe/Rome:20130929T093000
DTSTAMP:20260426T001551
CREATED:20130929T100722Z
LAST-MODIFIED:20231228T194105Z
UID:4571-1380447000-1380447000@www.proloco.sonico.bs.it
SUMMARY:Donne e resistenza
DESCRIPTION:
URL:https://www.proloco.sonico.bs.it/evento/donne-e-resistenza
LOCATION:BS
CATEGORIES:Manifestazioni
ATTACH;FMTTYPE=image/jpeg:https://www.proloco.sonico.bs.it/wp-content/uploads/2013/09/Senza-titolo-1.jpg
ORGANIZER;CN="Pro Loco Sonico":MAILTO:info@proloco.sonico.bs.it
END:VEVENT
BEGIN:VEVENT
DTSTART;TZID=Europe/Rome:20130910T083000
DTEND;TZID=Europe/Rome:20130911T000000
DTSTAMP:20260426T001551
CREATED:20130910T100726Z
LAST-MODIFIED:20231228T194040Z
UID:4575-1378801800-1378857600@www.proloco.sonico.bs.it
SUMMARY:Escursioni sul sentiero Francesco Troletti
DESCRIPTION:Il 10 e l’11 settembre\, il CAI Brescia e la Pro Loco Sonico hanno organizzato due escursioni in Val Malga per camminare sul sentiero dedicato al partigiano Francesco Troletti.Per informazioni: Pier Luigi Fanetti (cel. 333 7144204)
URL:https://www.proloco.sonico.bs.it/evento/escursioni-sul-sentiero-francesco-troletti
LOCATION:BS
CATEGORIES:Manifestazioni
ATTACH;FMTTYPE=image/jpeg:https://www.proloco.sonico.bs.it/wp-content/uploads/2013/09/cartina-gita.jpg
ORGANIZER;CN="Pro Loco Sonico":MAILTO:info@proloco.sonico.bs.it
END:VEVENT
BEGIN:VEVENT
DTSTART;TZID=Europe/Rome:20130602T110000
DTEND;TZID=Europe/Rome:20130602T110000
DTSTAMP:20260426T001551
CREATED:20130602T100752Z
LAST-MODIFIED:20231228T193953Z
UID:4582-1370170800-1370170800@www.proloco.sonico.bs.it
SUMMARY:Un carretto ricoperto di rami
DESCRIPTION:In occasione della reinaugurazione del “Sentiero della resistenza Francesco Troletti” la Proloco di Sonico presenta UN CARRETTO RICOPERTO DI RAMI\, monologo teatrale su Francesco Troletti
URL:https://www.proloco.sonico.bs.it/evento/un-carretto-ricoperto-di-rami
LOCATION:BS
CATEGORIES:Manifestazioni
ATTACH;FMTTYPE=image/jpeg:https://www.proloco.sonico.bs.it/wp-content/uploads/2013/05/un-carretto-ricoperto-di-rami-troletti.jpg
ORGANIZER;CN="Pro Loco Sonico":MAILTO:info@proloco.sonico.bs.it
END:VEVENT
BEGIN:VEVENT
DTSTART;TZID=Europe/Rome:20120729T000000
DTEND;TZID=Europe/Rome:20120729T000000
DTSTAMP:20260426T001551
CREATED:20120729T114104Z
LAST-MODIFIED:20231228T193559Z
UID:4636-1343520000-1343520000@www.proloco.sonico.bs.it
SUMMARY:Bollicine 2012 - degustazione vini
DESCRIPTION:Bollicine 2012: degustazione vini azienda agricola “Le Marchesine” presso rif. Premassone (loc. Valmalga – Sonico)
URL:https://www.proloco.sonico.bs.it/evento/bollicine-2012-degustazione-vini
LOCATION:Rifugio Premassone\, Sonico (loc. Valmalga)\, BS\, 25048\, Italia
CATEGORIES:Manifestazioni
ORGANIZER;CN="Pro Loco Sonico":MAILTO:info@proloco.sonico.bs.it
END:VEVENT
BEGIN:VEVENT
DTSTART;TZID=Europe/Rome:20120722T000000
DTEND;TZID=Europe/Rome:20120722T000000
DTSTAMP:20260426T001551
CREATED:20120722T114105Z
LAST-MODIFIED:20231228T193552Z
UID:4637-1342915200-1342915200@www.proloco.sonico.bs.it
SUMMARY:Degustazione tisane Vallecamonica
DESCRIPTION:Degustazione tisane della Valcamonica presso rif. Tonolini (loc. Baitone – Valmalga – Sonico)
URL:https://www.proloco.sonico.bs.it/evento/degustazione-tisane-vallecamonica
LOCATION:Rifugio Tonolini\, Sonico (loc. Baitone)\, BS\, 25048\, Italia
CATEGORIES:Manifestazioni
ORGANIZER;CN="Pro Loco Sonico":MAILTO:info@proloco.sonico.bs.it
END:VEVENT
BEGIN:VEVENT
DTSTART;TZID=Europe/Rome:20120708T000000
DTEND;TZID=Europe/Rome:20120708T000000
DTSTAMP:20260426T001551
CREATED:20120708T114119Z
LAST-MODIFIED:20231228T193520Z
UID:4639-1341705600-1341705600@www.proloco.sonico.bs.it
SUMMARY:Un vino all'altezza
DESCRIPTION:Un Vino all’Altezza: degustazione vini IGT di Vallecamonica
URL:https://www.proloco.sonico.bs.it/evento/un-vino-allaltezza
LOCATION:Premassone\, Sonico (loc. Valmalga)\, BS\, 25048\, Italia
CATEGORIES:Manifestazioni
ORGANIZER;CN="Pro Loco Sonico":MAILTO:info@proloco.sonico.bs.it
END:VEVENT
BEGIN:VEVENT
DTSTART;TZID=Europe/Rome:20120701T000000
DTEND;TZID=Europe/Rome:20120701T000000
DTSTAMP:20260426T001551
CREATED:20120701T114120Z
LAST-MODIFIED:20231228T193507Z
UID:4640-1341100800-1341100800@www.proloco.sonico.bs.it
SUMMARY:Bollicine 2012 - degustazione vini
DESCRIPTION:Bollicine 2012: degustazione vini azienda agricola “Le Marchesine” presso rif. Premassone (loc. Valmalga – Sonico)
URL:https://www.proloco.sonico.bs.it/evento/bollicine-2012-degustazione-vini-2
LOCATION:Rifugio Premassone\, Sonico (loc. Valmalga)\, BS\, 25048\, Italia
CATEGORIES:Manifestazioni
ORGANIZER;CN="Pro Loco Sonico":MAILTO:info@proloco.sonico.bs.it
END:VEVENT
BEGIN:VEVENT
DTSTART;TZID=Europe/Rome:20120624T000000
DTEND;TZID=Europe/Rome:20120624T000000
DTSTAMP:20260426T001551
CREATED:20120624T114135Z
LAST-MODIFIED:20231228T193439Z
UID:4643-1340496000-1340496000@www.proloco.sonico.bs.it
SUMMARY:Degustazione tisane Vallecamonica
DESCRIPTION:Degustazione tisane della Valcamonica presso rif. Premassone (loc. Valmalga – Sonico)
URL:https://www.proloco.sonico.bs.it/evento/degustazione-tisane-vallecamonica-2
LOCATION:Rifugio Premassone\, Sonico (loc. Valmalga)\, BS\, 25048\, Italia
CATEGORIES:Manifestazioni
ORGANIZER;CN="Pro Loco Sonico":MAILTO:info@proloco.sonico.bs.it
END:VEVENT
END:VCALENDAR